BEGIN:VCALENDAR
VERSION:2.0
PRODID:-//Mental Health &amp; Recovery Services Board - ECPv6.15.20//NONSGML v1.0//EN
CALSCALE:GREGORIAN
METHOD:PUBLISH
X-ORIGINAL-URL:https://richlandmentalhealth.com
X-WR-CALDESC:Events for Mental Health &amp; Recovery Services Board
REFRESH-INTERVAL;VALUE=DURATION:PT1H
X-Robots-Tag:noindex
X-PUBLISHED-TTL:PT1H
BEGIN:VTIMEZONE
TZID:America/New_York
BEGIN:DAYLIGHT
TZOFFSETFROM:-0500
TZOFFSETTO:-0400
TZNAME:EDT
DTSTART:20210314T070000
END:DAYLIGHT
BEGIN:STANDARD
TZOFFSETFROM:-0400
TZOFFSETTO:-0500
TZNAME:EST
DTSTART:20211107T060000
END:STANDARD
BEGIN:DAYLIGHT
TZOFFSETFROM:-0500
TZOFFSETTO:-0400
TZNAME:EDT
DTSTART:20220313T070000
END:DAYLIGHT
BEGIN:STANDARD
TZOFFSETFROM:-0400
TZOFFSETTO:-0500
TZNAME:EST
DTSTART:20221106T060000
END:STANDARD
BEGIN:DAYLIGHT
TZOFFSETFROM:-0500
TZOFFSETTO:-0400
TZNAME:EDT
DTSTART:20230312T070000
END:DAYLIGHT
BEGIN:STANDARD
TZOFFSETFROM:-0400
TZOFFSETTO:-0500
TZNAME:EST
DTSTART:20231105T060000
END:STANDARD
END:VTIMEZONE
BEGIN:VEVENT
DTSTART;TZID=America/New_York:20220521T090000
DTEND;TZID=America/New_York:20220521T120000
DTSTAMP:20260424T115535
CREATED:20220501T214519Z
LAST-MODIFIED:20220501T214522Z
UID:10000554-1653123600-1653134400@richlandmentalhealth.com
SUMMARY:Bike-A-Palooza Family Festival at Northlake Park
DESCRIPTION:May 21st from 9:00 a.m. till 12:00 p.m. Bike-A-Palooza Family Festival will be held at Northlake Park. The event will be free and open to the public. There will be Bike with a Cop\, a Bicycle Safety Rodeo\, a Bicycle Raffle\, Family Entertainment\, Mansfield Fire Departments House of Hazards\, Bike Inspections including small bike repairs\, temporary tattoos and food. This event is brought to you via collaboration of many community partners that will be recognized at the event.
URL:https://richlandmentalhealth.com/event/bike-a-palooza-family-festival-at-northlake-park/
LOCATION:Northlake Park\, 625 Hope Road\, Mansfield\, 44903\, Austria
ATTACH;FMTTYPE=image/jpeg:https://richlandmentalhealth.com/wp-content/uploads/2022/05/bikeapalooza.jpg
END:VEVENT
END:VCALENDAR