BEGIN:VCALENDAR
VERSION:2.0
PRODID:-//Mental Health &amp; Recovery Services Board - ECPv6.15.20//NONSGML v1.0//EN
CALSCALE:GREGORIAN
METHOD:PUBLISH
X-WR-CALNAME:Mental Health &amp; Recovery Services Board
X-ORIGINAL-URL:https://richlandmentalhealth.com
X-WR-CALDESC:Events for Mental Health &amp; Recovery Services Board
REFRESH-INTERVAL;VALUE=DURATION:PT1H
X-Robots-Tag:noindex
X-PUBLISHED-TTL:PT1H
BEGIN:VTIMEZONE
TZID:America/New_York
BEGIN:DAYLIGHT
TZOFFSETFROM:-0500
TZOFFSETTO:-0400
TZNAME:EDT
DTSTART:20220313T070000
END:DAYLIGHT
BEGIN:STANDARD
TZOFFSETFROM:-0400
TZOFFSETTO:-0500
TZNAME:EST
DTSTART:20221106T060000
END:STANDARD
BEGIN:DAYLIGHT
TZOFFSETFROM:-0500
TZOFFSETTO:-0400
TZNAME:EDT
DTSTART:20230312T070000
END:DAYLIGHT
BEGIN:STANDARD
TZOFFSETFROM:-0400
TZOFFSETTO:-0500
TZNAME:EST
DTSTART:20231105T060000
END:STANDARD
BEGIN:DAYLIGHT
TZOFFSETFROM:-0500
TZOFFSETTO:-0400
TZNAME:EDT
DTSTART:20240310T070000
END:DAYLIGHT
BEGIN:STANDARD
TZOFFSETFROM:-0400
TZOFFSETTO:-0500
TZNAME:EST
DTSTART:20241103T060000
END:STANDARD
END:VTIMEZONE
BEGIN:VEVENT
DTSTART;TZID=America/New_York:20230928T173000
DTEND;TZID=America/New_York:20230928T200000
DTSTAMP:20260424T072159
CREATED:20230829T235140Z
LAST-MODIFIED:20230831T114352Z
UID:10000618-1695922200-1695931200@richlandmentalhealth.com
SUMMARY:Local Screening of Suicide: The Ripple Effect | Kevin Hines & The Golden Gate Bridge
DESCRIPTION:September 28th from 5:30 pm to 8:00 p.m. Richland County Mental Health and Recovery Services Board in collaboration with 33Forever and NAMI Richland County is celebrating Recovery Month by hosting a screening of Suicide: The Ripple Effect at the Mansfield Playhouse. This is the documentary created by Kevin Hines who survived jumping off the Golden Gate Bridge. The Board will sponsor refreshments for this event.
URL:https://richlandmentalhealth.com/event/local-screening-of-suicide-the-ripple-effect-kevin-hines-the-golden-gate-bridge/
LOCATION:Mansfield Playhouse\, 95 E 3rd St\, Mansfield\, 44902
ATTACH;FMTTYPE=image/jpeg:https://richlandmentalhealth.com/wp-content/uploads/2023/08/Ripple-Effect-Kevin-Hines-Movie-Playhouse.jpg
ORGANIZER;CN="Richland County Mental Health &amp%3Bamp%3B Recovery Services Board":MAILTO:jtolian@rcmbh.org
END:VEVENT
BEGIN:VEVENT
DTSTART;TZID=America/New_York:20230211T170000
DTEND;TZID=America/New_York:20230211T210000
DTSTAMP:20260424T072159
CREATED:20230118T193146Z
LAST-MODIFIED:20230119T010829Z
UID:10000552-1676134800-1676149200@richlandmentalhealth.com
SUMMARY:Black Health & Wellness Symposium - NAMI Richland County
DESCRIPTION:The symposium promises a night to remember\, including a Welcome Reception with light refreshment and appetizers\, local university speakers\, individual lived experience memoirs\, and panel discussions. Additionally\, NAMI Richland County would like the opportunity to award three individuals who have made a significant contribution toward reducing the stigma of mental health in the community. \nThe Black Health and Wellness Symposium will be hosted by The Mansfield Playhouse on Saturday\, February 11\, 2023; doors opening at 5pm and the event will begin promptly at 5:30pm.  This event is FREE to the public and does require registration. You may find more details on registering and becoming involved in the mental health movement at www.NamiRC.org or call the NAMI RC office at 419-522-6264. \nEvent Press Release \nAward Nomination Information and Application
URL:https://richlandmentalhealth.com/event/black-health-wellness-symposium-nami-richland-county/
LOCATION:Mansfield Playhouse\, 95 E 3rd St\, Mansfield\, 44902
ATTACH;FMTTYPE=image/jpeg:https://richlandmentalhealth.com/wp-content/uploads/2023/01/Black-Health-and-Wellness-Symposium-NAMI-Richland-County-Poster-Feb-11-2023.jpg
ORGANIZER;CN="NAMI Richland County":MAILTO:families@namirc.org
END:VEVENT
END:VCALENDAR