BEGIN:VCALENDAR
VERSION:2.0
PRODID:-//Mental Health &amp; Recovery Services Board - ECPv6.15.20//NONSGML v1.0//EN
CALSCALE:GREGORIAN
METHOD:PUBLISH
X-WR-CALNAME:Mental Health &amp; Recovery Services Board
X-ORIGINAL-URL:https://richlandmentalhealth.com
X-WR-CALDESC:Events for Mental Health &amp; Recovery Services Board
REFRESH-INTERVAL;VALUE=DURATION:PT1H
X-Robots-Tag:noindex
X-PUBLISHED-TTL:PT1H
BEGIN:VTIMEZONE
TZID:America/New_York
BEGIN:DAYLIGHT
TZOFFSETFROM:-0500
TZOFFSETTO:-0400
TZNAME:EDT
DTSTART:20200308T070000
END:DAYLIGHT
BEGIN:STANDARD
TZOFFSETFROM:-0400
TZOFFSETTO:-0500
TZNAME:EST
DTSTART:20201101T060000
END:STANDARD
BEGIN:DAYLIGHT
TZOFFSETFROM:-0500
TZOFFSETTO:-0400
TZNAME:EDT
DTSTART:20210314T070000
END:DAYLIGHT
BEGIN:STANDARD
TZOFFSETFROM:-0400
TZOFFSETTO:-0500
TZNAME:EST
DTSTART:20211107T060000
END:STANDARD
BEGIN:DAYLIGHT
TZOFFSETFROM:-0500
TZOFFSETTO:-0400
TZNAME:EDT
DTSTART:20220313T070000
END:DAYLIGHT
BEGIN:STANDARD
TZOFFSETFROM:-0400
TZOFFSETTO:-0500
TZNAME:EST
DTSTART:20221106T060000
END:STANDARD
END:VTIMEZONE
BEGIN:VEVENT
DTSTART;TZID=America/New_York:20210907T000000
DTEND;TZID=America/New_York:20210907T000000
DTSTAMP:20260424T062948
CREATED:20210831T003615Z
LAST-MODIFIED:20210831T003616Z
UID:10000536-1630972800-1630972800@richlandmentalhealth.com
SUMMARY:Richland County Development Group Zoom Meeting - Joe Trolian Speaker
DESCRIPTION:September 7th Joe Trolian Guest Speaker for Richland County Development Group Zoom Meeting discussing the topic of Business and Recovery – Helping business become recovery supportive and employees be employment ready. \n 
URL:https://richlandmentalhealth.com/event/richland-county-development-group-zoom-meeting-joe-trolian-speaker/
END:VEVENT
END:VCALENDAR