BEGIN:VCALENDAR
VERSION:2.0
PRODID:-//Mental Health &amp; Recovery Services Board - ECPv6.15.20//NONSGML v1.0//EN
CALSCALE:GREGORIAN
METHOD:PUBLISH
X-ORIGINAL-URL:https://richlandmentalhealth.com
X-WR-CALDESC:Events for Mental Health &amp; Recovery Services Board
REFRESH-INTERVAL;VALUE=DURATION:PT1H
X-Robots-Tag:noindex
X-PUBLISHED-TTL:PT1H
BEGIN:VTIMEZONE
TZID:America/New_York
BEGIN:DAYLIGHT
TZOFFSETFROM:-0500
TZOFFSETTO:-0400
TZNAME:EDT
DTSTART:20240310T070000
END:DAYLIGHT
BEGIN:STANDARD
TZOFFSETFROM:-0400
TZOFFSETTO:-0500
TZNAME:EST
DTSTART:20241103T060000
END:STANDARD
BEGIN:DAYLIGHT
TZOFFSETFROM:-0500
TZOFFSETTO:-0400
TZNAME:EDT
DTSTART:20250309T070000
END:DAYLIGHT
BEGIN:STANDARD
TZOFFSETFROM:-0400
TZOFFSETTO:-0500
TZNAME:EST
DTSTART:20251102T060000
END:STANDARD
BEGIN:DAYLIGHT
TZOFFSETFROM:-0500
TZOFFSETTO:-0400
TZNAME:EDT
DTSTART:20260308T070000
END:DAYLIGHT
BEGIN:STANDARD
TZOFFSETFROM:-0400
TZOFFSETTO:-0500
TZNAME:EST
DTSTART:20261101T060000
END:STANDARD
END:VTIMEZONE
BEGIN:VEVENT
DTSTART;TZID=America/New_York:20250501T173000
DTEND;TZID=America/New_York:20250501T193000
DTSTAMP:20260425T083758
CREATED:20250424T192243Z
LAST-MODIFIED:20250424T192245Z
UID:10000709-1746120600-1746127800@richlandmentalhealth.com
SUMMARY:Kaleidoscope ~ Community Conversations at the Renaissance
DESCRIPTION:Presented by Richland County Foundation ~ Featuring Licensed Therapist\, Author\, and Speaker Sarah Brokaw ~ Moderated by Jessica Hiser ~ Hosted on the Renaissance Stage \n\n\n\n\n\nSarah Brokaw is a licensed therapist\, coach\, and author\, dedicated to helping individuals lead fulfilling lives. With a master’s in social work from NYU and advanced training from Fielding Graduate University\, she specializes in resilience and emotional well-being. Her best-selling book\, Fortytude\, offers guidance on thriving through life’s transitions.
URL:https://richlandmentalhealth.com/event/kaleidoscope-community-conversations-at-the-renaissance/
END:VEVENT
BEGIN:VEVENT
DTSTART;TZID=America/New_York:20250504T110000
DTEND;TZID=America/New_York:20250504T140000
DTSTAMP:20260425T083758
CREATED:20240502T185642Z
LAST-MODIFIED:20250422T134943Z
UID:10000641-1746356400-1746367200@richlandmentalhealth.com
SUMMARY:Parent Education Resource Fair
DESCRIPTION:Richland County Youth and Family Council\, in collaboration with NAMI Richland County\, will host a Parent Education Resource Fair at Richland Carrousel Park 74 N. Main Street in Mansfield. This is a free event offering fun and education for the whole family. There will be information available including social-emotional learning and health resources. There will be carrousel rides\, a Mother’s Day craft\, giveaways\, animal balloons\, food and much more. For more information visit https://www.namirc.org/ or call 419-522-6264.
URL:https://richlandmentalhealth.com/event/nami-resource-fair/
END:VEVENT
BEGIN:VEVENT
DTSTART;TZID=America/New_York:20250505T190000
DTEND;TZID=America/New_York:20250505T193000
DTSTAMP:20260425T083758
CREATED:20240429T144959Z
LAST-MODIFIED:20250501T160004Z
UID:10000628-1746471600-1746473400@richlandmentalhealth.com
SUMMARY:Proclamation City of Shelby
DESCRIPTION:Mayor Steve Schag will give a proclamation declaring May as Mental Health Month 2025 in the City of Shelby. The proclamation will be held at City Hall during the City Council Meeting.
URL:https://richlandmentalhealth.com/event/proclamation-city-of-shelby/
END:VEVENT
BEGIN:VEVENT
DTSTART;TZID=America/New_York:20250505T193000
DTEND;TZID=America/New_York:20250505T200000
DTSTAMP:20260425T083758
CREATED:20240905T175643Z
LAST-MODIFIED:20250422T135244Z
UID:10000666-1746473400-1746475200@richlandmentalhealth.com
SUMMARY:Recovery Month Proclamation
DESCRIPTION:On behalf of the Village of Lexington\, Mayor Bob Jarvis will offer a proclamation to help Richland County Mental Health and Recovery Services Board celebrate May as Mental Health Month 2025. The event will be held at Village Hall in Lexington.
URL:https://richlandmentalhealth.com/event/recovery-month-proclamation-2/
END:VEVENT
BEGIN:VEVENT
DTSTART;TZID=America/New_York:20250507T090000
DTEND;TZID=America/New_York:20250507T160000
DTSTAMP:20260425T083758
CREATED:20250422T135937Z
LAST-MODIFIED:20250422T135939Z
UID:10000706-1746608400-1746633600@richlandmentalhealth.com
SUMMARY:UMADAOP Recovery Housing Tours
DESCRIPTION:Join Mansfield UMADAOP for a tour of their Recovery Housing facilities. Mansfield UMADAOP owns and operates seven Recovery Houses in Mansfield. These programs are based around client accountability and offer a wide range of services to clients to help aid them in resuming normal activities such as working and going to school. This environment can support sobriety and help clients adjust to their new substance-free lifestyle. For more information\, please call Mansfield UMADAOP at 419-525-3525.
URL:https://richlandmentalhealth.com/event/umadaop-recovery-housing-tours/
END:VEVENT
BEGIN:VEVENT
DTSTART;TZID=America/New_York:20250513T153000
DTEND;TZID=America/New_York:20250513T160000
DTSTAMP:20260425T083758
CREATED:20240502T191551Z
LAST-MODIFIED:20250422T140547Z
UID:10000645-1747150200-1747152000@richlandmentalhealth.com
SUMMARY:SATC Graduation Ceremony
DESCRIPTION:The SATC (Substance Abuse Treatment Court) Graduation ceremony will be held at the County Building in Judge Naumoff’s courtroom located at 50 Park Ave. West in Mansfield. Refreshments will be provided.
URL:https://richlandmentalhealth.com/event/satc-graduation-ceremony/
END:VEVENT
BEGIN:VEVENT
DTSTART;TZID=America/New_York:20250513T163000
DTEND;TZID=America/New_York:20250513T183000
DTSTAMP:20260425T083758
CREATED:20240502T191230Z
LAST-MODIFIED:20250422T140230Z
UID:10000644-1747153800-1747161000@richlandmentalhealth.com
SUMMARY:Annual Kids Carnival
DESCRIPTION:Catalyst Life Services will host its annual Kids Carnival at 270 Sterkel Blvd in Mansfield. This annual event celebrates Mental Health Awareness Month and support children in need. The event is free\, but we ask that anyone who is able brings a donation of hygiene products. Come join the Catalyst Team for snacks\, prizes\, games\, and more!
URL:https://richlandmentalhealth.com/event/catalyst-free-kids-carnival/
END:VEVENT
BEGIN:VEVENT
DTSTART;TZID=America/New_York:20250517T113300
DTEND;TZID=America/New_York:20250517T130000
DTSTAMP:20260425T083758
CREATED:20240502T192856Z
LAST-MODIFIED:20250422T141703Z
UID:10000646-1747481580-1747486800@richlandmentalhealth.com
SUMMARY:5th Annual 33 Forever Mental Health Birthday Walk
DESCRIPTION:33 Forever will host the 5th Annual 33 Forever Mental Health Birthday Walk which will begin and end at the Richland Carrousel in downtown Mansfield. The event includes a 3.33 km (2 mile) family-friendly walk\, carrousel rides\, a balloon artist\, an interactive reptile exhibit\, and fun for all ages. Check in begins at 10:33am and the event begins at 11:33am. A $33 registration fee will be collected from individual walkers and a $66 fee for each family of walkers. To register and for more details\, please visit https://33forever.life/.
URL:https://richlandmentalhealth.com/event/33-forever-3rd-annual-33-forever-mental-health-birthday-walk/
END:VEVENT
BEGIN:VEVENT
DTSTART;TZID=America/New_York:20250522T170000
DTEND;TZID=America/New_York:20250522T220000
DTSTAMP:20260425T083758
CREATED:20250422T141934Z
LAST-MODIFIED:20250422T141936Z
UID:10000707-1747933200-1747951200@richlandmentalhealth.com
SUMMARY:Peace on My Block - Annual Community Fair
DESCRIPTION:Mansfield City Schools\, in collaboration with CACY\, presents the Peace on My Block Annual Community Fair. The event is open to all Mansfield City School K-8th graders and their families and will be held at Arlin Field in Mansfield. Resource information\, games\, activities. food trucks\, and DJ will be at the event. At 9:30pm there will be fireworks. All minors must be accompanied by an adult to enter to event.
URL:https://richlandmentalhealth.com/event/peace-on-my-block-annual-community-fair/
END:VEVENT
BEGIN:VEVENT
DTSTART;TZID=America/New_York:20250524T140000
DTEND;TZID=America/New_York:20250524T160000
DTSTAMP:20260425T083758
CREATED:20250113T190633Z
LAST-MODIFIED:20250422T142617Z
UID:10000680-1748095200-1748102400@richlandmentalhealth.com
SUMMARY:In Our Own Voice - Interactive Presentation
DESCRIPTION:NAMI presents In Our Own Voice at the Connection Space located at 879 Park Avenue West in Mansfield – This is a free and interactive presentation where Brandon & Laura\, two adults living with mental health conditions\, will share their stories and answer audience questions about mental illness. Brandon is also a suicide attempt survivor with a compelling story offering hope and inspiration.
URL:https://richlandmentalhealth.com/event/nami-in-our-own-voice-presentation/
END:VEVENT
BEGIN:VEVENT
DTSTART;TZID=America/New_York:20250531T080000
DTEND;TZID=America/New_York:20250531T123000
DTSTAMP:20260425T083758
CREATED:20250422T143535Z
LAST-MODIFIED:20250422T143537Z
UID:10000708-1748678400-1748694600@richlandmentalhealth.com
SUMMARY:1st Annual NAMI-Walks Community Event
DESCRIPTION:Join NAMI Richland County in our first ever NAMI-Walks event at Marshall Park Ontario. The event will feature a 1-mile walk as well as 5K Race with the goal of raising awareness about mental health and local resources available in the community. There will be food trucks\, a DJ\, balloon animals\, face painting\, yard games\, family fun\, and more!
URL:https://richlandmentalhealth.com/event/1st-annual-nami-walks-community-event/
END:VEVENT
BEGIN:VEVENT
DTSTART;TZID=America/New_York:20250531T120000
DTEND;TZID=America/New_York:20250531T160000
DTSTAMP:20260425T083758
CREATED:20240502T193836Z
LAST-MODIFIED:20250422T144057Z
UID:10000647-1748692800-1748707200@richlandmentalhealth.com
SUMMARY:5th Annual Party in the Park
DESCRIPTION:Join Healing Hearts Counseling Center\, in collaboration with Healing Hearts Foundation of Ohio at the 5th Annual Party in the Park\, in recognition of May as Mental Health Month 2025. By hosting the event\, Healing Hearts hopes to bring connectedness and unity throughout our community through dance\, song\, and games. Featuring food\, games\, kids activities\, and fun for all ages! The event will be held at South Park\, 100 Brinkerhoff Ave. in Mansfield. A rain date is scheduled for June 7th.
URL:https://richlandmentalhealth.com/event/healing-hearts-party-in-park/
END:VEVENT
END:VCALENDAR