BEGIN:VCALENDAR
VERSION:2.0
PRODID:-//Mental Health &amp; Recovery Services Board - ECPv6.15.20//NONSGML v1.0//EN
CALSCALE:GREGORIAN
METHOD:PUBLISH
X-WR-CALNAME:Mental Health &amp; Recovery Services Board
X-ORIGINAL-URL:https://richlandmentalhealth.com
X-WR-CALDESC:Events for Mental Health &amp; Recovery Services Board
REFRESH-INTERVAL;VALUE=DURATION:PT1H
X-Robots-Tag:noindex
X-PUBLISHED-TTL:PT1H
BEGIN:VTIMEZONE
TZID:America/New_York
BEGIN:DAYLIGHT
TZOFFSETFROM:-0500
TZOFFSETTO:-0400
TZNAME:EDT
DTSTART:20230312T070000
END:DAYLIGHT
BEGIN:STANDARD
TZOFFSETFROM:-0400
TZOFFSETTO:-0500
TZNAME:EST
DTSTART:20231105T060000
END:STANDARD
BEGIN:DAYLIGHT
TZOFFSETFROM:-0500
TZOFFSETTO:-0400
TZNAME:EDT
DTSTART:20240310T070000
END:DAYLIGHT
BEGIN:STANDARD
TZOFFSETFROM:-0400
TZOFFSETTO:-0500
TZNAME:EST
DTSTART:20241103T060000
END:STANDARD
BEGIN:DAYLIGHT
TZOFFSETFROM:-0500
TZOFFSETTO:-0400
TZNAME:EDT
DTSTART:20250309T070000
END:DAYLIGHT
BEGIN:STANDARD
TZOFFSETFROM:-0400
TZOFFSETTO:-0500
TZNAME:EST
DTSTART:20251102T060000
END:STANDARD
END:VTIMEZONE
BEGIN:VEVENT
DTSTART;TZID=America/New_York:20240501T000000
DTEND;TZID=America/New_York:20240531T235959
DTSTAMP:20260424T080817
CREATED:20240502T174455Z
LAST-MODIFIED:20240502T174532Z
UID:10000632-1714521600-1717199999@richlandmentalhealth.com
SUMMARY:Catalyst / Helpline Available 24/7
DESCRIPTION:Catalyst Life Services will have the Helpline available 24 hours a day\, 7 days a week. If you or someone you know is dealing with a mental health or addiction crisis\, please call 419-522-HELP.
URL:https://richlandmentalhealth.com/event/catalyst-helpline-available-24-7/
END:VEVENT
BEGIN:VEVENT
DTSTART;TZID=America/New_York:20240501T000000
DTEND;TZID=America/New_York:20240531T235959
DTSTAMP:20260424T080817
CREATED:20240502T175246Z
LAST-MODIFIED:20240502T175248Z
UID:10000633-1714521600-1717199999@richlandmentalhealth.com
SUMMARY:Catalyst / Behavioral Health Urgent Care OPEN - No Appointment Needed
DESCRIPTION:The Behavioral Health Urgent Care at Catalyst Life Services offers access to services without an appointment. You can receive an initial assessment or brief and solution-focused counseling for Mental Health and Addiction. Located at 741 Scholl Rd in Mansfield\, the Urgent Care is open Monday and Friday 8:00am to 4:00pm / Tuesday\, Wednesday\, and Thursday 7:30am to 7:30pm.
URL:https://richlandmentalhealth.com/event/catalyst-behavioral-health-urgent-care-open-no-appointment-needed/
END:VEVENT
BEGIN:VEVENT
DTSTART;TZID=America/New_York:20240501T000000
DTEND;TZID=America/New_York:20240531T235959
DTSTAMP:20260424T080817
CREATED:20240502T175533Z
LAST-MODIFIED:20240502T175535Z
UID:10000634-1714521600-1717199999@richlandmentalhealth.com
SUMMARY:Warmline Available 24/7
DESCRIPTION:The Warmline will be available 24 hours a day\, 7 days a week for questions or concerns regarding mental health. For more information call 419-522-5300
URL:https://richlandmentalhealth.com/event/warmline-available-24-7/
END:VEVENT
BEGIN:VEVENT
DTSTART;TZID=America/New_York:20240501T000000
DTEND;TZID=America/New_York:20240531T235959
DTSTAMP:20260424T080817
CREATED:20240502T180054Z
LAST-MODIFIED:20250422T132809Z
UID:10000635-1714521600-1717199999@richlandmentalhealth.com
SUMMARY:Crisis Text Line Available 24/7 - Text4Hope #741-741
DESCRIPTION:The Richland County Mental Health Board will be supporting the Text4Hope – Crisis Text Line\, for those who prefer to communicate mental health and addiction recovery assistance. Available 24 hours a day\, 7 days a week. You can access this FREE service by texting a message to #741-741.
URL:https://richlandmentalhealth.com/event/crisis-text-line-text4hope-available-24-7/
END:VEVENT
BEGIN:VEVENT
DTSTART;TZID=America/New_York:20240501T080000
DTEND;TZID=America/New_York:20240531T170000
DTSTAMP:20260424T080817
CREATED:20240502T173811Z
LAST-MODIFIED:20240502T174011Z
UID:10000631-1714550400-1717174800@richlandmentalhealth.com
SUMMARY:CACY / Free Deterra Medication Disposal Pouch Pick-Up
DESCRIPTION:CACY will be distributing FREE Deterra medication deactivation pouches to properly dispose of unwanted or expired prescription and OTC medications. Deterra pouches are made from environmentally friendly material which allows the pouch to biodegrade without hurting the environment. FOR A FREE PACKET:  Call Brandy at the CACY Office at 419-774-5683.
URL:https://richlandmentalhealth.com/event/may-1-may-31-2024-cacy-free-deterra-pouch-pick-up/
END:VEVENT
BEGIN:VEVENT
DTSTART;TZID=America/New_York:20240501T100000
DTEND;TZID=America/New_York:20240501T140000
DTSTAMP:20260424T080817
CREATED:20240502T180512Z
LAST-MODIFIED:20240502T180514Z
UID:10000636-1714557600-1714572000@richlandmentalhealth.com
SUMMARY:UMADAOP & Third Street Clinic / FREE Mobile Medical Screenings
DESCRIPTION:Join UMADAOP and Third Street Clinic as they collaborate to provide medical screenings. The brand new Mobile Medical Unit will be at 74 Wood Street providing free screenings.
URL:https://richlandmentalhealth.com/event/umadaop-third-street-clinic-free-mobile-medical-screenings/
END:VEVENT
BEGIN:VEVENT
DTSTART;TZID=America/New_York:20240504T100000
DTEND;TZID=America/New_York:20240504T110000
DTSTAMP:20260424T080817
CREATED:20240502T184927Z
LAST-MODIFIED:20240502T185056Z
UID:10000637-1714816800-1714820400@richlandmentalhealth.com
SUMMARY:OhioHealth Ontario Health & Fitness / FREE Yoga for Veterans & Others
DESCRIPTION:OhioHealth Ontario Health and Fitness is offering free Yoga for veterans\, their family members and anyone else who may benefit from the class. The classes will be held at 1750 West Fourth Street in Mansfield. During the one-hour class\, participants will focus on mindful breathing\, gentle movement\, posture\, deep breathing and gratitude meditation. Classes will be held on Saturday May 4\, 11\, 18\, and 25.
URL:https://richlandmentalhealth.com/event/ohiohealth-ontario-health-fitness-free-yoga-for-veterans-others/2024-05-04/
END:VEVENT
BEGIN:VEVENT
DTSTART;TZID=America/New_York:20240507T173000
DTEND;TZID=America/New_York:20240507T193000
DTSTAMP:20260424T080817
CREATED:20240502T190528Z
LAST-MODIFIED:20240502T190529Z
UID:10000642-1715103000-1715110200@richlandmentalhealth.com
SUMMARY:CACY / Movie Showing "Screenagers - Under the Influence ..."
DESCRIPTION:CACY is hosting a showing of “Screenagers: Under the Influence – Addressing Vaping\, Drugs\, and Alcohol in the Digital Age” at the Linden Rd Presbyterian Church. This movie examines the impact of our digital age on teens decision-making in relation to substances and explores the latest research to learn more about the personal experiences of teens and families. The film highlights the changing landscape of the substances themselves\, offering solutions for how we can best empower teens as they face decisions about what they will and will not be influenced by.
URL:https://richlandmentalhealth.com/event/cacy-movie-showing-screenagers-under-the-influence/
END:VEVENT
BEGIN:VEVENT
DTSTART;TZID=America/New_York:20240511T100000
DTEND;TZID=America/New_York:20240511T110000
DTSTAMP:20260424T080817
CREATED:20240502T184927Z
LAST-MODIFIED:20240502T185056Z
UID:10000638-1715421600-1715425200@richlandmentalhealth.com
SUMMARY:OhioHealth Ontario Health & Fitness / FREE Yoga for Veterans & Others
DESCRIPTION:OhioHealth Ontario Health and Fitness is offering free Yoga for veterans\, their family members and anyone else who may benefit from the class. The classes will be held at 1750 West Fourth Street in Mansfield. During the one-hour class\, participants will focus on mindful breathing\, gentle movement\, posture\, deep breathing and gratitude meditation. Classes will be held on Saturday May 4\, 11\, 18\, and 25.
URL:https://richlandmentalhealth.com/event/ohiohealth-ontario-health-fitness-free-yoga-for-veterans-others/2024-05-11/
END:VEVENT
BEGIN:VEVENT
DTSTART;TZID=America/New_York:20240518T100000
DTEND;TZID=America/New_York:20240518T110000
DTSTAMP:20260424T080817
CREATED:20240502T184927Z
LAST-MODIFIED:20240502T185056Z
UID:10000639-1716026400-1716030000@richlandmentalhealth.com
SUMMARY:OhioHealth Ontario Health & Fitness / FREE Yoga for Veterans & Others
DESCRIPTION:OhioHealth Ontario Health and Fitness is offering free Yoga for veterans\, their family members and anyone else who may benefit from the class. The classes will be held at 1750 West Fourth Street in Mansfield. During the one-hour class\, participants will focus on mindful breathing\, gentle movement\, posture\, deep breathing and gratitude meditation. Classes will be held on Saturday May 4\, 11\, 18\, and 25.
URL:https://richlandmentalhealth.com/event/ohiohealth-ontario-health-fitness-free-yoga-for-veterans-others/2024-05-18/
END:VEVENT
BEGIN:VEVENT
DTSTART;TZID=America/New_York:20240524T120000
DTEND;TZID=America/New_York:20240524T140000
DTSTAMP:20260424T080817
CREATED:20240516T144057Z
LAST-MODIFIED:20240516T144451Z
UID:10000650-1716552000-1716559200@richlandmentalhealth.com
SUMMARY:Family Life Counseling / Free Lunch in the Park
DESCRIPTION:In recognition of Mental Health Awareness Month\, Family Life Counseling will be providing the community with a FREE lunch in the park along with FREE activities including: food\, snacks\, drinks\, corn hole\, games\, music\, live testimonials from individuals who are succeeding in recovery\, and a resource table attended by Family Life Staff to provide information and answer questions.
URL:https://richlandmentalhealth.com/event/family-life-counseling-free-lunch-in-the-park/
END:VEVENT
BEGIN:VEVENT
DTSTART;TZID=America/New_York:20240525T100000
DTEND;TZID=America/New_York:20240525T110000
DTSTAMP:20260424T080817
CREATED:20240502T184927Z
LAST-MODIFIED:20240502T185056Z
UID:10000640-1716631200-1716634800@richlandmentalhealth.com
SUMMARY:OhioHealth Ontario Health & Fitness / FREE Yoga for Veterans & Others
DESCRIPTION:OhioHealth Ontario Health and Fitness is offering free Yoga for veterans\, their family members and anyone else who may benefit from the class. The classes will be held at 1750 West Fourth Street in Mansfield. During the one-hour class\, participants will focus on mindful breathing\, gentle movement\, posture\, deep breathing and gratitude meditation. Classes will be held on Saturday May 4\, 11\, 18\, and 25.
URL:https://richlandmentalhealth.com/event/ohiohealth-ontario-health-fitness-free-yoga-for-veterans-others/2024-05-25/
END:VEVENT
BEGIN:VEVENT
DTSTART;TZID=America/New_York:20240528T130000
DTEND;TZID=America/New_York:20240528T163000
DTSTAMP:20260424T080817
CREATED:20240502T194046Z
LAST-MODIFIED:20240502T194048Z
UID:10000648-1716901200-1716913800@richlandmentalhealth.com
SUMMARY:Catalyst / FREE Hearing Screenings
DESCRIPTION:Catalyst Life Services is offering Free hearings screenings at 270 Sterkel Blvd Mansfield
URL:https://richlandmentalhealth.com/event/catalyst-free-hearing-screenings/
END:VEVENT
END:VCALENDAR