BEGIN:VCALENDAR
VERSION:2.0
PRODID:-//Mental Health &amp; Recovery Services Board - ECPv6.15.20//NONSGML v1.0//EN
CALSCALE:GREGORIAN
METHOD:PUBLISH
X-ORIGINAL-URL:https://richlandmentalhealth.com
X-WR-CALDESC:Events for Mental Health &amp; Recovery Services Board
REFRESH-INTERVAL;VALUE=DURATION:PT1H
X-Robots-Tag:noindex
X-PUBLISHED-TTL:PT1H
BEGIN:VTIMEZONE
TZID:America/New_York
BEGIN:DAYLIGHT
TZOFFSETFROM:-0500
TZOFFSETTO:-0400
TZNAME:EDT
DTSTART:20210314T070000
END:DAYLIGHT
BEGIN:STANDARD
TZOFFSETFROM:-0400
TZOFFSETTO:-0500
TZNAME:EST
DTSTART:20211107T060000
END:STANDARD
BEGIN:DAYLIGHT
TZOFFSETFROM:-0500
TZOFFSETTO:-0400
TZNAME:EDT
DTSTART:20220313T070000
END:DAYLIGHT
BEGIN:STANDARD
TZOFFSETFROM:-0400
TZOFFSETTO:-0500
TZNAME:EST
DTSTART:20221106T060000
END:STANDARD
BEGIN:DAYLIGHT
TZOFFSETFROM:-0500
TZOFFSETTO:-0400
TZNAME:EDT
DTSTART:20230312T070000
END:DAYLIGHT
BEGIN:STANDARD
TZOFFSETFROM:-0400
TZOFFSETTO:-0500
TZNAME:EST
DTSTART:20231105T060000
END:STANDARD
END:VTIMEZONE
BEGIN:VEVENT
DTSTART;TZID=America/New_York:20220106T180000
DTEND;TZID=America/New_York:20220106T190000
DTSTAMP:20260425T081047
CREATED:20220108T013402Z
LAST-MODIFIED:20220108T013406Z
UID:10000295-1641492000-1641495600@richlandmentalhealth.com
SUMMARY:NAMI Connection Support Group
DESCRIPTION:NAMI Connection Recovery Support Group is a free\, peer-led support group for any adult who has experienced symptoms of a mental health condition. You will gain insight from hearing the challenges and successes of others\, and the groups are led by trained leaders who’ve been there. \nBy sharing your experiences in a safe and confidential setting\, you can gain hope and feel a sense of connection. The group encourages empathy\, productive discussion\, and a sense of community. You’ll benefit from other’s experiences\, discover your inner strength and empower yourself by sharing your own experiences in a non-judgmental space. \nNAMI Connection Recovery Support Group will help you: \nAim for better coping skills \n– Find strength in sharing experiences \n– Not judge anyone’s pain \n– Forgive ourselves and reject guilt \n– Embrace humor as healthy \n– Accept that we cannot solve every problem \n– Understand that mental health conditions are no one’s fault and can be traumatic experiences
URL:https://richlandmentalhealth.com/event/nami-connection-support-group/2022-01-06/
LOCATION:Richland County Mental Health and Recovery Services 87 East First St. Suite L Mansfield OH 44902\, 87 East First St. Suite L\, Mansfield\, 44902
ATTACH;FMTTYPE=image/png:https://richlandmentalhealth.com/wp-content/uploads/2021/12/Family-Support-5-1.png
ORGANIZER;CN="NAMI Richland County":MAILTO:families@namirc.org
END:VEVENT
BEGIN:VEVENT
DTSTART;TZID=America/New_York:20220106T180000
DTEND;TZID=America/New_York:20220106T190000
DTSTAMP:20260425T081047
CREATED:20220108T021622Z
LAST-MODIFIED:20220108T021624Z
UID:10000307-1641492000-1641495600@richlandmentalhealth.com
SUMMARY:NAMI Connection Support Group
DESCRIPTION:NAMI Connection Recovery Support Group is a free\, peer-led support group for any adult who has experienced symptoms of a mental health condition. You will gain insight from hearing the challenges and successes of others\, and the groups are led by trained leaders who’ve been there. \nBy sharing your experiences in a safe and confidential setting\, you can gain hope and feel a sense of connection. The group encourages empathy\, productive discussion\, and a sense of community. You’ll benefit from other’s experiences\, discover your inner strength and empower yourself by sharing your own experiences in a non-judgmental space. \nNAMI Connection Recovery Support Group will help you: \nAim for better coping skills \n– Find strength in sharing experiences \n– Not judge anyone’s pain \n– Forgive ourselves and reject guilt \n– Embrace humor as healthy \n– Accept that we cannot solve every problem \n– Understand that mental health conditions are no one’s fault and can be traumatic experiences
URL:https://richlandmentalhealth.com/event/nami-connection-support-group-9/
LOCATION:Richland County Mental Health and Recovery Services 87 East First St. Suite L Mansfield OH 44902\, 87 East First St. Suite L\, Mansfield\, 44902
ATTACH;FMTTYPE=image/png:https://richlandmentalhealth.com/wp-content/uploads/2021/12/Family-Support-5.png
ORGANIZER;CN="NAMI Richland County":MAILTO:families@namirc.org
END:VEVENT
BEGIN:VEVENT
DTSTART;TZID=America/New_York:20220117T183000
DTEND;TZID=America/New_York:20220117T200000
DTSTAMP:20260425T081047
CREATED:20220108T013959Z
LAST-MODIFIED:20220108T022128Z
UID:10000297-1642444200-1642449600@richlandmentalhealth.com
SUMMARY:NAMI Family Support Group
DESCRIPTION:NAMI Family Support Group is a peer-led support group for any adult with a loved one who has experienced symptoms of a mental health condition. Gain insight from the challenges and successes of others facing similar experiences.\n\nBy sharing your experiences in a safe setting\, you can gain hope and develop supportive relationships. This group allows your voice to be heard and provides an opportunity for your personal needs to be met. It encourages empathy\, productive discussion and a sense of community. You’ll benefit from other’s experiences\, discover your inner strength and empower yourself by sharing your own experiences in a non-judgmental space.
URL:https://richlandmentalhealth.com/event/nami-family-support-group-4/
LOCATION:Richland County Mental Health and Recovery Services 87 East First St. Suite L Mansfield OH 44902\, 87 East First St. Suite L\, Mansfield\, 44902
ATTACH;FMTTYPE=image/png:https://richlandmentalhealth.com/wp-content/uploads/2021/12/Family-Support-4-2.png
ORGANIZER;CN="NAMI Richland County":MAILTO:families@namirc.org
END:VEVENT
END:VCALENDAR