BEGIN:VCALENDAR
VERSION:2.0
PRODID:-//Mental Health &amp; Recovery Services Board - ECPv6.15.20//NONSGML v1.0//EN
CALSCALE:GREGORIAN
METHOD:PUBLISH
X-ORIGINAL-URL:https://richlandmentalhealth.com
X-WR-CALDESC:Events for Mental Health &amp; Recovery Services Board
REFRESH-INTERVAL;VALUE=DURATION:PT1H
X-Robots-Tag:noindex
X-PUBLISHED-TTL:PT1H
BEGIN:VTIMEZONE
TZID:America/New_York
BEGIN:DAYLIGHT
TZOFFSETFROM:-0500
TZOFFSETTO:-0400
TZNAME:EDT
DTSTART:20200308T070000
END:DAYLIGHT
BEGIN:STANDARD
TZOFFSETFROM:-0400
TZOFFSETTO:-0500
TZNAME:EST
DTSTART:20201101T060000
END:STANDARD
BEGIN:DAYLIGHT
TZOFFSETFROM:-0500
TZOFFSETTO:-0400
TZNAME:EDT
DTSTART:20210314T070000
END:DAYLIGHT
BEGIN:STANDARD
TZOFFSETFROM:-0400
TZOFFSETTO:-0500
TZNAME:EST
DTSTART:20211107T060000
END:STANDARD
BEGIN:DAYLIGHT
TZOFFSETFROM:-0500
TZOFFSETTO:-0400
TZNAME:EDT
DTSTART:20220313T070000
END:DAYLIGHT
BEGIN:STANDARD
TZOFFSETFROM:-0400
TZOFFSETTO:-0500
TZNAME:EST
DTSTART:20221106T060000
END:STANDARD
END:VTIMEZONE
BEGIN:VEVENT
DTSTART;TZID=America/New_York:20210727T063000
DTEND;TZID=America/New_York:20210727T083000
DTSTAMP:20260424T080909
CREATED:20210820T212241Z
LAST-MODIFIED:20210820T212243Z
UID:10000528-1627367400-1627374600@richlandmentalhealth.com
SUMMARY:NAMI Family & Friends
DESCRIPTION:What: \nNAMI Family & Friends is a FREE 2-hour seminar that informs people who have loved ones with a mental health condition how to best support them. It’s also an opportunity to meet other people in similar situations and gain community and support. \n  \nWhy: \nThe seminar is led by trained people with lived experience of supporting a family member with a mental health condition. They will walk you through the following topics: \n\nUnderstanding diagnoses\, treatment and recovery\nEffective communication strategies\nThe importance of self-care\nCrisis preparation strategies\nNAMI and community resources
URL:https://richlandmentalhealth.com/event/nami-family-friends/
LOCATION:Richland County Mental Health and Recovery Services 87 East First St. Suite L Mansfield OH 44902\, 87 East First St. Suite L\, Mansfield\, 44902
ATTACH;FMTTYPE=image/png:https://richlandmentalhealth.com/wp-content/uploads/2021/06/fam-and-friends-pic.png
ORGANIZER;CN="NAMI Richland County":MAILTO:families@namirc.org
END:VEVENT
END:VCALENDAR