BEGIN:VCALENDAR
VERSION:2.0
PRODID:-//Mental Health &amp; Recovery Services Board - ECPv6.15.20//NONSGML v1.0//EN
CALSCALE:GREGORIAN
METHOD:PUBLISH
X-WR-CALNAME:Mental Health &amp; Recovery Services Board
X-ORIGINAL-URL:https://richlandmentalhealth.com
X-WR-CALDESC:Events for Mental Health &amp; Recovery Services Board
REFRESH-INTERVAL;VALUE=DURATION:PT1H
X-Robots-Tag:noindex
X-PUBLISHED-TTL:PT1H
BEGIN:VTIMEZONE
TZID:America/New_York
BEGIN:DAYLIGHT
TZOFFSETFROM:-0500
TZOFFSETTO:-0400
TZNAME:EDT
DTSTART:20240310T070000
END:DAYLIGHT
BEGIN:STANDARD
TZOFFSETFROM:-0400
TZOFFSETTO:-0500
TZNAME:EST
DTSTART:20241103T060000
END:STANDARD
BEGIN:DAYLIGHT
TZOFFSETFROM:-0500
TZOFFSETTO:-0400
TZNAME:EDT
DTSTART:20250309T070000
END:DAYLIGHT
BEGIN:STANDARD
TZOFFSETFROM:-0400
TZOFFSETTO:-0500
TZNAME:EST
DTSTART:20251102T060000
END:STANDARD
BEGIN:DAYLIGHT
TZOFFSETFROM:-0500
TZOFFSETTO:-0400
TZNAME:EDT
DTSTART:20260308T070000
END:DAYLIGHT
BEGIN:STANDARD
TZOFFSETFROM:-0400
TZOFFSETTO:-0500
TZNAME:EST
DTSTART:20261101T060000
END:STANDARD
END:VTIMEZONE
BEGIN:VEVENT
DTSTART;TZID=America/New_York:20251118T120000
DTEND;TZID=America/New_York:20251118T130000
DTSTAMP:20260425T132041
CREATED:20251113T192123Z
LAST-MODIFIED:20251113T192129Z
UID:10000722-1763467200-1763470800@richlandmentalhealth.com
SUMMARY:Ribbon Cutting & Grand Opening Ceremony for Danielle's Lighthouse
DESCRIPTION:Join us for the official ribbon cutting and grand opening of Danielle’s Lighthouse\, a new 10-bed rehabilitation facility in Mansfield. This center provides community members who are leaving inpatient mental health care with a safe\, supportive environment to assist in their transition back into the community. \n\n\n\nLocated at 87 E. First Street\, Suite A\, Mansfield\, OH 44902\, Danielle’s Lighthouse will be managed by Coleman Health Services and is named in honor and remembrance of Danielle Heck. Special thanks to 33Forever\, NAMI-Richland County\, and Crossroads Church for their generous contributions that made this facility possible. \n\n\n\nRSVP by Friday\, November 14\, 2025 by calling (330) 676-6926 or emailing HowToHelp@colemanservices.org.
URL:https://richlandmentalhealth.com/event/ribbon-cutting-grand-opening-ceremony-for-danielles-lighthouse/
END:VEVENT
END:VCALENDAR