BEGIN:VCALENDAR
VERSION:2.0
PRODID:-//Mental Health &amp; Recovery Services Board - ECPv6.15.20//NONSGML v1.0//EN
CALSCALE:GREGORIAN
METHOD:PUBLISH
X-ORIGINAL-URL:https://richlandmentalhealth.com
X-WR-CALDESC:Events for Mental Health &amp; Recovery Services Board
REFRESH-INTERVAL;VALUE=DURATION:PT1H
X-Robots-Tag:noindex
X-PUBLISHED-TTL:PT1H
BEGIN:VTIMEZONE
TZID:America/New_York
BEGIN:DAYLIGHT
TZOFFSETFROM:-0500
TZOFFSETTO:-0400
TZNAME:EDT
DTSTART:20230312T070000
END:DAYLIGHT
BEGIN:STANDARD
TZOFFSETFROM:-0400
TZOFFSETTO:-0500
TZNAME:EST
DTSTART:20231105T060000
END:STANDARD
BEGIN:DAYLIGHT
TZOFFSETFROM:-0500
TZOFFSETTO:-0400
TZNAME:EDT
DTSTART:20240310T070000
END:DAYLIGHT
BEGIN:STANDARD
TZOFFSETFROM:-0400
TZOFFSETTO:-0500
TZNAME:EST
DTSTART:20241103T060000
END:STANDARD
BEGIN:DAYLIGHT
TZOFFSETFROM:-0500
TZOFFSETTO:-0400
TZNAME:EDT
DTSTART:20250309T070000
END:DAYLIGHT
BEGIN:STANDARD
TZOFFSETFROM:-0400
TZOFFSETTO:-0500
TZNAME:EST
DTSTART:20251102T060000
END:STANDARD
END:VTIMEZONE
BEGIN:VEVENT
DTSTART;TZID=America/New_York:20241017T080000
DTEND;TZID=America/New_York:20241017T160000
DTSTAMP:20260424T102947
CREATED:20240905T190932Z
LAST-MODIFIED:20240905T190934Z
UID:10000676-1729152000-1729180800@richlandmentalhealth.com
SUMMARY:Ethics Training
DESCRIPTION:The Richland County Mental Health and Recovery Services Board will be offering an Ethics Training. A presenter from the Counselor and Social Worker Board will facilitate the training. The training will be held at Richland County Children Services Board located at 731 Scholl Road in Mansfield\, Ohio.  \n\n\n\nTo register for the training\, go to www.richlandmentalhealth.com and complete the registration form located on the home page. \n\n\n\nA registration form can also be obtained by calling 419-774-5811 or by emailing rcmhb@rcmhb.org
URL:https://richlandmentalhealth.com/event/ethics-training/
END:VEVENT
END:VCALENDAR