BEGIN:VCALENDAR
VERSION:2.0
PRODID:-//Mental Health &amp; Recovery Services Board - ECPv6.15.20//NONSGML v1.0//EN
CALSCALE:GREGORIAN
METHOD:PUBLISH
X-ORIGINAL-URL:https://richlandmentalhealth.com
X-WR-CALDESC:Events for Mental Health &amp; Recovery Services Board
REFRESH-INTERVAL;VALUE=DURATION:PT1H
X-Robots-Tag:noindex
X-PUBLISHED-TTL:PT1H
BEGIN:VTIMEZONE
TZID:America/New_York
BEGIN:DAYLIGHT
TZOFFSETFROM:-0500
TZOFFSETTO:-0400
TZNAME:EDT
DTSTART:20230312T070000
END:DAYLIGHT
BEGIN:STANDARD
TZOFFSETFROM:-0400
TZOFFSETTO:-0500
TZNAME:EST
DTSTART:20231105T060000
END:STANDARD
BEGIN:DAYLIGHT
TZOFFSETFROM:-0500
TZOFFSETTO:-0400
TZNAME:EDT
DTSTART:20240310T070000
END:DAYLIGHT
BEGIN:STANDARD
TZOFFSETFROM:-0400
TZOFFSETTO:-0500
TZNAME:EST
DTSTART:20241103T060000
END:STANDARD
BEGIN:DAYLIGHT
TZOFFSETFROM:-0500
TZOFFSETTO:-0400
TZNAME:EDT
DTSTART:20250309T070000
END:DAYLIGHT
BEGIN:STANDARD
TZOFFSETFROM:-0400
TZOFFSETTO:-0500
TZNAME:EST
DTSTART:20251102T060000
END:STANDARD
END:VTIMEZONE
BEGIN:VEVENT
DTSTART;TZID=America/New_York:20241007T080000
DTEND;TZID=America/New_York:20241011T160000
DTSTAMP:20260424T103122
CREATED:20240905T185958Z
LAST-MODIFIED:20240905T185959Z
UID:10000675-1728288000-1728662400@richlandmentalhealth.com
SUMMARY:Crisis Intervention Team (CIT) Training
DESCRIPTION:The National Alliance on Mental Illness (NAMI) Richland County is conducting the 33rd Crisis Intervention Team training. This training is specific to First Responders and is a community-based training that brings together law enforcement\, mental health professionals\, advocates\, people living with mental illness and their families\, and other partners to improve community responses to people experiencing mental health crises. For more information on CIT Training please contact NAMI Richland County at 419-522-6264.
URL:https://richlandmentalhealth.com/event/crisis-intervention-team-cit-training/
END:VEVENT
BEGIN:VEVENT
DTSTART;TZID=America/New_York:20241011T090000
DTEND;TZID=America/New_York:20241011T150000
DTSTAMP:20260424T103122
CREATED:20240918T133935Z
LAST-MODIFIED:20240918T133936Z
UID:10000677-1728637200-1728658800@richlandmentalhealth.com
SUMMARY:Richland Public Health FREE Community Event
DESCRIPTION:Richland Public Health is hosting a FREE Community Health Day! Come and join the community on October 11th from 9am-3pm for health screenings\, consultations\, giveaways and more!
URL:https://richlandmentalhealth.com/event/richland-public-health-free-community-event/
END:VEVENT
END:VCALENDAR