BEGIN:VCALENDAR
VERSION:2.0
PRODID:-//Mental Health &amp; Recovery Services Board - ECPv6.15.20//NONSGML v1.0//EN
CALSCALE:GREGORIAN
METHOD:PUBLISH
X-WR-CALNAME:Mental Health &amp; Recovery Services Board
X-ORIGINAL-URL:https://richlandmentalhealth.com
X-WR-CALDESC:Events for Mental Health &amp; Recovery Services Board
REFRESH-INTERVAL;VALUE=DURATION:PT1H
X-Robots-Tag:noindex
X-PUBLISHED-TTL:PT1H
BEGIN:VTIMEZONE
TZID:America/New_York
BEGIN:DAYLIGHT
TZOFFSETFROM:-0500
TZOFFSETTO:-0400
TZNAME:EDT
DTSTART:20220313T070000
END:DAYLIGHT
BEGIN:STANDARD
TZOFFSETFROM:-0400
TZOFFSETTO:-0500
TZNAME:EST
DTSTART:20221106T060000
END:STANDARD
BEGIN:DAYLIGHT
TZOFFSETFROM:-0500
TZOFFSETTO:-0400
TZNAME:EDT
DTSTART:20230312T070000
END:DAYLIGHT
BEGIN:STANDARD
TZOFFSETFROM:-0400
TZOFFSETTO:-0500
TZNAME:EST
DTSTART:20231105T060000
END:STANDARD
BEGIN:DAYLIGHT
TZOFFSETFROM:-0500
TZOFFSETTO:-0400
TZNAME:EDT
DTSTART:20240310T070000
END:DAYLIGHT
BEGIN:STANDARD
TZOFFSETFROM:-0400
TZOFFSETTO:-0500
TZNAME:EST
DTSTART:20241103T060000
END:STANDARD
END:VTIMEZONE
BEGIN:VEVENT
DTSTART;TZID=America/New_York:20230918T183000
DTEND;TZID=America/New_York:20230918T200000
DTSTAMP:20260425T080846
CREATED:20230829T234250Z
LAST-MODIFIED:20230831T114714Z
UID:10000616-1695061800-1695067200@richlandmentalhealth.com
SUMMARY:NAMI Support Group
DESCRIPTION:September 18th from 6:00 p.m. to 7:00 p.m. NAMI Support Group will host a free meeting available and open to the public with a guest speaker from Healing Hearts Counseling. The presenter will talk about Addiction and Mental Health and treatment that is available for those in need. Call NAMI at (419) 522-6264 for more information. \n  \nNAMI Family Support Group is a peer-led support group for any adult with a loved one who has experienced symptoms of a mental health condition. Gain insight from the challenges and successes of others facing similar experiences. We provide a safe and confidential setting that allows the opportunity to speak about difficult situations and topics related to mental health. \nNAMI’s support groups are unique because they follow a structured model\, ensuring everyone has an opportunity to be heard and to get what they need. \n\n\nFree of cost to participants \n\n\nDesigned for adult loved ones of people with mental health conditions \n\n\nLed by family members of people with mental health conditions \n\n\nNo specific medical therapy or treatment is endorsed but rather all resources and methods are discussed. We respect the individual to know what resource is best for them. \n\n\nConfidential \n\n\nWe meet every 3rd Monday of the month\, 6:30-8pm at the Richland County Mental Health Board: 87 E. First St. Suite L Mansfield Oh 44902.
URL:https://richlandmentalhealth.com/event/nami-support-group/
LOCATION:Richland County Mental Health and Recovery Services 87 East First St. Suite L Mansfield OH 44902\, 87 East First St. Suite L\, Mansfield\, 44902
ATTACH;FMTTYPE=image/png:https://richlandmentalhealth.com/wp-content/uploads/2023/08/FamilySupport4NAMI.png
ORGANIZER;CN="NAMI Richland County":MAILTO:families@namirc.org
END:VEVENT
BEGIN:VEVENT
DTSTART;TZID=America/New_York:20230918T193000
DTEND;TZID=America/New_York:20230918T193000
DTSTAMP:20260425T080846
CREATED:20230829T235338Z
LAST-MODIFIED:20230829T235338Z
UID:10000617-1695065400-1695065400@richlandmentalhealth.com
SUMMARY:Recovery Month Proclamation Village of Lexington
DESCRIPTION:September 18th at 7:30 p.m. On behalf of the Village of Lexington Mayor Brian White will offer a proclamation supporting the Richland County Mental Health and Recovery Services Board as they celebrate Recovery Month. The event will be held at Village Hall in Lexington.
URL:https://richlandmentalhealth.com/event/recovery-month-proclamation-village-of-lexington/
LOCATION:Lexington Village Hall\, 44 W Main St Ste A\, Lexington\, 44904
ORGANIZER;CN="Richland County Mental Health &amp%3Bamp%3B Recovery Services Board":MAILTO:jtolian@rcmbh.org
END:VEVENT
END:VCALENDAR