BEGIN:VCALENDAR
VERSION:2.0
PRODID:-//Mental Health &amp; Recovery Services Board - ECPv6.15.20//NONSGML v1.0//EN
CALSCALE:GREGORIAN
METHOD:PUBLISH
X-WR-CALNAME:Mental Health &amp; Recovery Services Board
X-ORIGINAL-URL:https://richlandmentalhealth.com
X-WR-CALDESC:Events for Mental Health &amp; Recovery Services Board
REFRESH-INTERVAL;VALUE=DURATION:PT1H
X-Robots-Tag:noindex
X-PUBLISHED-TTL:PT1H
BEGIN:VTIMEZONE
TZID:America/New_York
BEGIN:DAYLIGHT
TZOFFSETFROM:-0500
TZOFFSETTO:-0400
TZNAME:EDT
DTSTART:20220313T070000
END:DAYLIGHT
BEGIN:STANDARD
TZOFFSETFROM:-0400
TZOFFSETTO:-0500
TZNAME:EST
DTSTART:20221106T060000
END:STANDARD
BEGIN:DAYLIGHT
TZOFFSETFROM:-0500
TZOFFSETTO:-0400
TZNAME:EDT
DTSTART:20230312T070000
END:DAYLIGHT
BEGIN:STANDARD
TZOFFSETFROM:-0400
TZOFFSETTO:-0500
TZNAME:EST
DTSTART:20231105T060000
END:STANDARD
BEGIN:DAYLIGHT
TZOFFSETFROM:-0500
TZOFFSETTO:-0400
TZNAME:EDT
DTSTART:20240310T070000
END:DAYLIGHT
BEGIN:STANDARD
TZOFFSETFROM:-0400
TZOFFSETTO:-0500
TZNAME:EST
DTSTART:20241103T060000
END:STANDARD
END:VTIMEZONE
BEGIN:VEVENT
DTSTART;TZID=America/New_York:20230518T090000
DTEND;TZID=America/New_York:20230518T163000
DTSTAMP:20260425T063815
CREATED:20230501T151132Z
LAST-MODIFIED:20230511T180109Z
UID:10000602-1684400400-1684427400@richlandmentalhealth.com
SUMMARY:Free Hearing Screenings
DESCRIPTION:Catalyst Life Services is offering Free hearing Screenings at 270 Sterkel Blvd in Mansfield. 
URL:https://richlandmentalhealth.com/event/free-hearing-screenings/
ATTACH;FMTTYPE=image/png:https://richlandmentalhealth.com/wp-content/uploads/2023/05/Hearing-screenings.png
END:VEVENT
BEGIN:VEVENT
DTSTART;TZID=America/New_York:20230518T180000
DTEND;TZID=America/New_York:20230518T200000
DTSTAMP:20260425T063815
CREATED:20230309T204547Z
LAST-MODIFIED:20230309T204549Z
UID:10000331-1684432800-1684440000@richlandmentalhealth.com
SUMMARY:ACT Raising Safe Kids
DESCRIPTION:The ACT program was developed by the American Psychological Association (APA) and is coordinated by the Children\, Youth & Families Portfolio. The program is based on research showing that:\n\n 	The early years are a critical time in development when children are learning basic skills that have long-term effects on their lives.\n 	Exposure to adverse childhood experiences (ACEs)\, such as maltreatment\, can have serious and long-standing impacts on brain development\, emotional\, cognitive\, behavioral development and on health.\n 	Parents and caregivers are teachers\, protectors and advocates for their children.
URL:https://richlandmentalhealth.com/event/act-raising-safe-kids/2023-05-18/
LOCATION:YWCA Child Care Resource &amp; Referral Office\, 800 Park Ave W\, Mansfield\, OH\, 44906\, United States
ATTACH;FMTTYPE=image/png:https://richlandmentalhealth.com/wp-content/uploads/2023/01/CCRR-ACT-Program-Flyer-1.png
END:VEVENT
BEGIN:VEVENT
DTSTART;TZID=America/New_York:20230518T180000
DTEND;TZID=America/New_York:20230518T200000
DTSTAMP:20260425T063815
CREATED:20230501T151330Z
LAST-MODIFIED:20230511T134658Z
UID:10000603-1684432800-1684440000@richlandmentalhealth.com
SUMMARY:Responding to Addiction Town Hall Meeting in Lucas
DESCRIPTION:Responding to Addiction Town Hall Meeting. At the Lucas Community Center. Hosted by Lucas Lion’s Club. Featuring  Presentations from CACY “Hidden in Plain Sight”\, Recovery Story from Joe Nichols\, Deputy Pat Smith discussing Interdiction and Diversion\, Dr. Joe Bocka providing a Narcan Training\, Joe Trolian and Kym Lamb discussing Resources and the METRICH App. Followed by Questions and Answers and Resource tables.
URL:https://richlandmentalhealth.com/event/responding-to-addiction-town-hall-meeting-in-lucas/
ATTACH;FMTTYPE=application/pdf:https://richlandmentalhealth.com/wp-content/uploads/2023/05/Lucas-Town-Hall-05182023.pdf
ORGANIZER;CN="Richland County Mental Health &amp%3Bamp%3B Recovery Services Board":MAILTO:jtolian@rcmbh.org
END:VEVENT
END:VCALENDAR