BEGIN:VCALENDAR
VERSION:2.0
PRODID:-//Mental Health &amp; Recovery Services Board - ECPv6.15.20//NONSGML v1.0//EN
CALSCALE:GREGORIAN
METHOD:PUBLISH
X-ORIGINAL-URL:https://richlandmentalhealth.com
X-WR-CALDESC:Events for Mental Health &amp; Recovery Services Board
REFRESH-INTERVAL;VALUE=DURATION:PT1H
X-Robots-Tag:noindex
X-PUBLISHED-TTL:PT1H
BEGIN:VTIMEZONE
TZID:America/New_York
BEGIN:DAYLIGHT
TZOFFSETFROM:-0500
TZOFFSETTO:-0400
TZNAME:EDT
DTSTART:20220313T070000
END:DAYLIGHT
BEGIN:STANDARD
TZOFFSETFROM:-0400
TZOFFSETTO:-0500
TZNAME:EST
DTSTART:20221106T060000
END:STANDARD
BEGIN:DAYLIGHT
TZOFFSETFROM:-0500
TZOFFSETTO:-0400
TZNAME:EDT
DTSTART:20230312T070000
END:DAYLIGHT
BEGIN:STANDARD
TZOFFSETFROM:-0400
TZOFFSETTO:-0500
TZNAME:EST
DTSTART:20231105T060000
END:STANDARD
BEGIN:DAYLIGHT
TZOFFSETFROM:-0500
TZOFFSETTO:-0400
TZNAME:EDT
DTSTART:20240310T070000
END:DAYLIGHT
BEGIN:STANDARD
TZOFFSETFROM:-0400
TZOFFSETTO:-0500
TZNAME:EST
DTSTART:20241103T060000
END:STANDARD
END:VTIMEZONE
BEGIN:VEVENT
DTSTART;TZID=America/New_York:20230511T153000
DTEND;TZID=America/New_York:20230511T163000
DTSTAMP:20260425T101604
CREATED:20230501T145448Z
LAST-MODIFIED:20230501T145449Z
UID:10000596-1683819000-1683822600@richlandmentalhealth.com
SUMMARY:Richland County Drug Court Graduation
DESCRIPTION:21st Annual Richland County Drug Court Graduation will be held at the  Life  Celebration Reception Center\, 129 South Main Street\, Mansfield\, Ohio 44902. Refreshments will be provided.
URL:https://richlandmentalhealth.com/event/richland-county-drug-court-graduation/
END:VEVENT
BEGIN:VEVENT
DTSTART;TZID=America/New_York:20230511T160000
DTEND;TZID=America/New_York:20230511T180000
DTSTAMP:20260425T101604
CREATED:20230501T145917Z
LAST-MODIFIED:20230511T133540Z
UID:10000597-1683820800-1683828000@richlandmentalhealth.com
SUMMARY:Catalyst Life Services Annual Kids Carnival
DESCRIPTION:Catalyst Life Services will host its Annual Kids Carnival at 270 Sterkel Blvd in Mansfield. The event is free and open to the public. There will be snacks\, games and prizes at the event.
URL:https://richlandmentalhealth.com/event/catalyst-life-services-annual-kids-carnival/
ATTACH;FMTTYPE=application/pdf:https://richlandmentalhealth.com/wp-content/uploads/2023/05/KIDSCARNIVALFLYER23-1.pdf
END:VEVENT
BEGIN:VEVENT
DTSTART;TZID=America/New_York:20230511T170000
DTEND;TZID=America/New_York:20230511T200000
DTSTAMP:20260425T101604
CREATED:20230501T150142Z
LAST-MODIFIED:20230511T150026Z
UID:10000598-1683824400-1683835200@richlandmentalhealth.com
SUMMARY:Tito's Cantina Celebrates Mental Health Month
DESCRIPTION:Tito’s Cantina Grill will host an event supporting Mental Health. Free snacks will be available. Tito’s offers non-alcoholic mocktails and food specials plus regular menu. There will be a DJ\, trivia and prizes. Proceeds from the event will go CACY. Tito’s is located at 3201/2 East Main Street in Lexington.
URL:https://richlandmentalhealth.com/event/titos-cantina-celebrates-mental-health-month/
ATTACH;FMTTYPE=image/jpeg:https://richlandmentalhealth.com/wp-content/uploads/2023/05/CACY_-Titos-Event.jpg
END:VEVENT
BEGIN:VEVENT
DTSTART;TZID=America/New_York:20230511T180000
DTEND;TZID=America/New_York:20230511T200000
DTSTAMP:20260425T101604
CREATED:20230309T204547Z
LAST-MODIFIED:20230309T204549Z
UID:10000330-1683828000-1683835200@richlandmentalhealth.com
SUMMARY:ACT Raising Safe Kids
DESCRIPTION:The ACT program was developed by the American Psychological Association (APA) and is coordinated by the Children\, Youth & Families Portfolio. The program is based on research showing that:\n\n 	The early years are a critical time in development when children are learning basic skills that have long-term effects on their lives.\n 	Exposure to adverse childhood experiences (ACEs)\, such as maltreatment\, can have serious and long-standing impacts on brain development\, emotional\, cognitive\, behavioral development and on health.\n 	Parents and caregivers are teachers\, protectors and advocates for their children.
URL:https://richlandmentalhealth.com/event/act-raising-safe-kids/2023-05-11/
LOCATION:YWCA Child Care Resource &amp; Referral Office\, 800 Park Ave W\, Mansfield\, OH\, 44906\, United States
ATTACH;FMTTYPE=image/png:https://richlandmentalhealth.com/wp-content/uploads/2023/01/CCRR-ACT-Program-Flyer-1.png
END:VEVENT
END:VCALENDAR