BEGIN:VCALENDAR
VERSION:2.0
PRODID:-//Mental Health &amp; Recovery Services Board - ECPv6.15.20//NONSGML v1.0//EN
CALSCALE:GREGORIAN
METHOD:PUBLISH
X-ORIGINAL-URL:https://richlandmentalhealth.com
X-WR-CALDESC:Events for Mental Health &amp; Recovery Services Board
REFRESH-INTERVAL;VALUE=DURATION:PT1H
X-Robots-Tag:noindex
X-PUBLISHED-TTL:PT1H
BEGIN:VTIMEZONE
TZID:America/New_York
BEGIN:DAYLIGHT
TZOFFSETFROM:-0500
TZOFFSETTO:-0400
TZNAME:EDT
DTSTART:20210314T070000
END:DAYLIGHT
BEGIN:STANDARD
TZOFFSETFROM:-0400
TZOFFSETTO:-0500
TZNAME:EST
DTSTART:20211107T060000
END:STANDARD
BEGIN:DAYLIGHT
TZOFFSETFROM:-0500
TZOFFSETTO:-0400
TZNAME:EDT
DTSTART:20220313T070000
END:DAYLIGHT
BEGIN:STANDARD
TZOFFSETFROM:-0400
TZOFFSETTO:-0500
TZNAME:EST
DTSTART:20221106T060000
END:STANDARD
BEGIN:DAYLIGHT
TZOFFSETFROM:-0500
TZOFFSETTO:-0400
TZNAME:EDT
DTSTART:20230312T070000
END:DAYLIGHT
BEGIN:STANDARD
TZOFFSETFROM:-0400
TZOFFSETTO:-0500
TZNAME:EST
DTSTART:20231105T060000
END:STANDARD
END:VTIMEZONE
BEGIN:VEVENT
DTSTART;TZID=America/New_York:20220430T190000
DTEND;TZID=America/New_York:20220430T190000
DTSTAMP:20260425T231357
CREATED:20220430T212603Z
LAST-MODIFIED:20220430T212605Z
UID:10000313-1651345200-1651345200@richlandmentalhealth.com
SUMMARY:The Family Matter Musical Stage Play
DESCRIPTION:The Latter Rain Media Ministry is putting on a Musical Stage Play entitled “The Family Matters”. This family friendly show is about the importance of family\, faith and community. The play addresses prominent issues such as Mental Health/ Addiction\, Cultural Awareness\, Non-traditional family structure\, and the value of community support services and asking for help. \nThese story lines will be performed by some of the most talented actors/actresses and musicians in the State of Ohio.  Our production will present these relevant social issues through theatrical arts with great singing\, music\, soul stirring moments and plenty of laughs designed to give our audience an experience that they will enjoy during and well after the show. \nDoors open at 6:15pm – Show begins at 7:00pm \nThis show is sponsored by The Richland Mental Health & Recovery Services Board \nTickets Available at TheFamilyMatters.net
URL:https://richlandmentalhealth.com/event/the-family-matter-musical-stage-play/
LOCATION:Mansfield Senior High School\, 124 N Linden Rd\, Mansfield\, 44906
ATTACH;FMTTYPE=image/jpeg:https://richlandmentalhealth.com/wp-content/uploads/2022/04/thefamilymatter.jpg
ORGANIZER;CN="Effie James":MAILTO:ejames44907@gmail.com
END:VEVENT
END:VCALENDAR